BEGIN:VCALENDAR
VERSION:2.0
PRODID:-//Yeselling - ECPv6.15.1.1//NONSGML v1.0//EN
CALSCALE:GREGORIAN
METHOD:PUBLISH
X-WR-CALNAME:Yeselling
X-ORIGINAL-URL:https://yeselling.at
X-WR-CALDESC:Events for Yeselling
REFRESH-INTERVAL;VALUE=DURATION:PT1H
X-Robots-Tag:noindex
X-PUBLISHED-TTL:PT1H
BEGIN:VTIMEZONE
TZID:Europe/Vienna
BEGIN:DAYLIGHT
TZOFFSETFROM:+0100
TZOFFSETTO:+0200
TZNAME:CEST
DTSTART:20260329T010000
END:DAYLIGHT
BEGIN:STANDARD
TZOFFSETFROM:+0200
TZOFFSETTO:+0100
TZNAME:CET
DTSTART:20261025T010000
END:STANDARD
END:VTIMEZONE
BEGIN:VEVENT
DTSTART;TZID=Europe/Vienna:20260426T183000
DTEND;TZID=Europe/Vienna:20260426T200000
DTSTAMP:20260423T123036
CREATED:20260326T164850Z
LAST-MODIFIED:20260326T164851Z
UID:4037-1777228200-1777233600@yeselling.at
SUMMARY:Long Practice of Green Tara and Ganapuja (Guru Rinpoche-Day)
DESCRIPTION:Long Practice of Green Tara and Ganapuja (Guru Rinpoche-Day) and an explanation of Chögyal Namkhai Norbu on relative and supreme realization
URL:https://yeselling.at/event/long-practice-of-green-tara-and-ganapuja-guru-rinpoche-day/
LOCATION:Dzogchen Community Yeselling\, Austria
END:VEVENT
BEGIN:VEVENT
DTSTART;TZID=Europe/Vienna:20260429T183000
DTEND;TZID=Europe/Vienna:20260429T193000
DTSTAMP:20260423T123036
CREATED:20260326T165012Z
LAST-MODIFIED:20260326T165013Z
UID:4039-1777487400-1777491000@yeselling.at
SUMMARY:Practice of Vajrasattva
DESCRIPTION:Explanation of Chögyal Namkhai Norbu on Vajrasattva and practice of Vajrasattva with HUMs and OM Ah Hums
URL:https://yeselling.at/event/practice-of-vajrasattva-11/
LOCATION:Dzogchen Community Yeselling\, Austria
END:VEVENT
BEGIN:VEVENT
DTSTART;VALUE=DATE:20260430
DTEND;VALUE=DATE:20260504
DTSTAMP:20260423T123036
CREATED:20260316T165322Z
LAST-MODIFIED:20260316T165322Z
UID:4016-1777507200-1777852799@yeselling.at
SUMMARY:Retreat on Green Tara and her 21 manifestations & Ödzer Chenma with Oliver Leick in Hungary
DESCRIPTION:Green Tara and her 21 manifestations & Ödzer Chenma\nexplanation and practice \nwith Oliver Leick\nfrom April 30th to May 3rd\nlocation Dobogókő\, Hungary\nThis retreat will be On-Site & ONLINE \n\nTara embodies the compassion\, the energy\, and the wisdom of all realized beings. She is considered to be the mother of all Buddhas\, and she personifies the perfection of wisdom. As a manifestation of the pure state of the air element\, Tara is famous for her capacity of acting quickly and for granting us salvation when we are in great difficulty. \nMaritse\, known in Tibetan as Ödzer Chenma\, is a revered dakini and yidam in Vajrayana Buddhism\, closely linked to light protection\, and the removal of darkness and obstacles. In general we have many problems and try to find mans to resolve them. But sometimes\, awareness about the existing problems do not solve the problems. The practice of Green Tara and Ödzer Chenma are very useful for resolving provisional problems. However\, these practices have far more profound benefits as well\, as their real principle is total realization. \nIn this retreat we will mainly focus on the understanding of these practices according to the teachings of Dzogchen transmitted by Chögyal Namkhai Norbu\, which will finally lead to the main practice of Dzogchen\, the practice of Guruyoga.\nTo have received the direct transmission of Chögyal Namkhai Norbu or Namkhai Yeshi is mandatory for participating in this retreat. \n Registration form – Participation via Zoom >> \n \nRegistration form – Participation in Person >> \n\nSince 1977 Oliver Leick\, who has studied and applied these practices of Tara for many years\, has continuously studied with his teacher Chögyal Namkhai Norbu. Up to now he has given more than 200 seminars and courses all over the world. \nProgram \nApril 30th\nAfternoon Session\, 16:00-18:30\nKhaita\, 20:00-21:00\, Chöd\, 21:15-22:00 \nMay 1st\nHarmonious Breathing\, 07:30-08:30\nMorning Session\, 10:00-12:30\nAfternoon Session\, 16:00-18:30\nKhaita\, 20:00-21:00\, Chöd\, 21:15-22:00 \n\nMay 2nd\nHarmonious Breathing\, 07:30-08:30\nMorning Session\, 10:00-12:30\nAfternoon Session\, 16:00-18:30\nGanapuja\, 19:00-20:00\nKhaita\, 20:15-21:00\, Chöd\, 21:15-22:00\n\nMay 3rd\nHarmonious Breathing\, 07:30-08:30\nMorning Session\, 10:00-12:30 \nClick here to see the full Program and details \nLanguages:\nThe retreat will be held in English. If you need translation\, please indicate your preferred language during registration. We will try to support with translation options.\n \nGetting to Dobogókő & Accomodation \nUpon registration you can choose your accommodation option.\nCheck out the details about Dobogókő Buddhist Retreat Center to see what best suits you. By staying with us\, you will be able to experience the retreat in a more immersive way and fully dedicate your time to the practices. \nThe retreat place is in the Pilis area\, so you can relax and enjoy the surroundings during the breaks.\nClick here to learn how to reach Dobogókő Buddhist Retreat Center. \nWe look forward to practicing together with you! \n\nWith Love\, \nHungarian Dzogchen Community
URL:https://yeselling.at/event/retreat-on-green-tara-and-her-21-manifestations-odzer-chenma-with-oliver-leick-in-hungary/
LOCATION:Dzogchen Community Hungary\, Hungary
END:VEVENT
END:VCALENDAR